BEGIN:VCALENDAR
VERSION:2.0
PRODID:-//Sabre//Sabre VObject 4.5.6//EN
CALSCALE:GREGORIAN
BEGIN:VEVENT
UID:sabre-vobject-45524e64-fe4d-45ef-97c8-4cf40f627a1d
DTSTAMP:20260422T032913Z
SUMMARY:Rosenkranz
DESCRIPTION:https://gottesdienstsuche.com/rosenkranz_id32003
DTSTART:20250826T175500
LOCATION:Pfarrkirche Niederscheyern-Maria Verkündigung\, Scheyererweg 3\, 
 85276 Niederscheyern
END:VEVENT
END:VCALENDAR
