BEGIN:VCALENDAR
VERSION:2.0
PRODID:-//Sabre//Sabre VObject 4.5.6//EN
CALSCALE:GREGORIAN
BEGIN:VEVENT
UID:sabre-vobject-ab6fcb72-cf0d-40d7-a623-4966c8c3533c
DTSTAMP:20260422T070146Z
SUMMARY:Vesper und Messe
DESCRIPTION:https://gottesdienstsuche.com/vesper-und-messe_id32001
DTSTART:20250825T174500
LOCATION:Kapitelkirche Scheyern-St. Johannes Nepomuk\, Schyrenplatz\, 85298
  Scheyern
END:VEVENT
END:VCALENDAR
