BEGIN:VCALENDAR
VERSION:2.0
PRODID:-//Sabre//Sabre VObject 4.5.6//EN
CALSCALE:GREGORIAN
BEGIN:VEVENT
UID:sabre-vobject-bf6e5ef8-2e62-490f-b695-c2d20e84e1b5
DTSTAMP:20260422T102614Z
SUMMARY:Abendgottesdienst
DESCRIPTION:https://gottesdienstsuche.com/abendgottesdienst_id32000
DTSTART:20250824T190000
LOCATION:Pfarrkirche Scheyern-Heilig Kreuz (Klosterkirche)\, Schyrenplatz \
 , 85298 Scheyern
END:VEVENT
END:VCALENDAR
