BEGIN:VCALENDAR
VERSION:2.0
PRODID:-//Sabre//Sabre VObject 4.5.6//EN
CALSCALE:GREGORIAN
BEGIN:VEVENT
UID:sabre-vobject-6f9d37f1-5bfb-444e-b60f-d041fde73ade
DTSTAMP:20260422T121618Z
SUMMARY:Vesper mit eucharistischem Segen\n
DESCRIPTION:https://gottesdienstsuche.com/vesper-mit-eucharistischem-segen_
 id31999
DTSTART:20250824T163000
LOCATION:Pfarrkirche Scheyern-Heilig Kreuz (Klosterkirche)\, Schyrenplatz \
 , 85298 Scheyern
END:VEVENT
END:VCALENDAR
