BEGIN:VCALENDAR
VERSION:2.0
PRODID:-//Sabre//Sabre VObject 4.5.6//EN
CALSCALE:GREGORIAN
BEGIN:VEVENT
UID:sabre-vobject-708c2cae-e496-4a1f-9b02-3ddc301e6906
DTSTAMP:20260422T185929Z
SUMMARY:Konventgottesdienst
DESCRIPTION:https://gottesdienstsuche.com/konventgottesdienst_id31998
DTSTART:20250824T100000
LOCATION:Pfarrkirche Scheyern-Heilig Kreuz (Klosterkirche)\, Schyrenplatz \
 , 85298 Scheyern
END:VEVENT
END:VCALENDAR
