BEGIN:VCALENDAR
VERSION:2.0
PRODID:-//Sabre//Sabre VObject 4.5.6//EN
CALSCALE:GREGORIAN
BEGIN:VEVENT
UID:sabre-vobject-e2ab2d72-722c-438d-b67d-c913ca2a13fc
DTSTAMP:20260422T205617Z
SUMMARY:Erster Gottesdienst in d. Kapelle Sachenbach nach der Renovierung (
 bei Regen in der Pfarrkirche)
DESCRIPTION:https://gottesdienstsuche.com/erster-gottesdienst-in-d-kapelle-
 sachenbach-nach-der-renovierung-bei-regen-in-der-pfarrkirche_id31997
DTSTART:20250824T100000
LOCATION:Pfarrkirche Gerolsbach-St. Andreas\, St.-Andreas-Str. 7\, 85302 Ge
 rolsbach
END:VEVENT
END:VCALENDAR
