BEGIN:VCALENDAR
VERSION:2.0
PRODID:-//Sabre//Sabre VObject 4.5.6//EN
CALSCALE:GREGORIAN
BEGIN:VEVENT
UID:sabre-vobject-851b5747-91b0-4281-bea8-adce02a1fdbc
DTSTAMP:20260423T021615Z
SUMMARY:Frühgottesdienst
DESCRIPTION:https://gottesdienstsuche.com/fruehgottesdienst_id31995
DTSTART:20250824T073000
LOCATION:Pfarrkirche Scheyern-Heilig Kreuz (Klosterkirche)\, Schyrenplatz \
 , 85298 Scheyern
END:VEVENT
END:VCALENDAR
