BEGIN:VCALENDAR
VERSION:2.0
PRODID:-//Sabre//Sabre VObject 4.5.6//EN
CALSCALE:GREGORIAN
BEGIN:VEVENT
UID:sabre-vobject-afaa5ba8-f0f9-4131-94b7-e35a05dff0e2
DTSTAMP:20260423T101232Z
SUMMARY:Vorabendgottesdienst
DESCRIPTION:https://gottesdienstsuche.com/vorabendgottesdienst_id31992
DTSTART:20250823T173000
LOCATION:Pfarrkirche Niederscheyern-Maria Verkündigung\, Scheyererweg 3\, 
 85276 Niederscheyern
END:VEVENT
END:VCALENDAR
