BEGIN:VCALENDAR
VERSION:2.0
PRODID:-//Sabre//Sabre VObject 4.5.6//EN
CALSCALE:GREGORIAN
BEGIN:VEVENT
UID:sabre-vobject-0ff80faf-a5b7-48e9-b4c3-6356319ca53d
DTSTAMP:20260423T133414Z
SUMMARY:Beichtgelegenheit\, im Beichtstuhl
DESCRIPTION:https://gottesdienstsuche.com/beichtgelegenheit-im-beichtstuhl_
 id31991
DTSTART:20250823T163000
LOCATION:Pfarrkirche Scheyern-Heilig Kreuz (Klosterkirche)\, Schyrenplatz \
 , 85298 Scheyern
END:VEVENT
END:VCALENDAR
