BEGIN:VCALENDAR
VERSION:2.0
PRODID:-//Sabre//Sabre VObject 4.5.6//EN
CALSCALE:GREGORIAN
BEGIN:VEVENT
UID:sabre-vobject-eeadce21-626d-4470-a8e6-3628f7e0ac28
DTSTAMP:20260423T184138Z
SUMMARY:Das Sonntagsevangelium gemeinsam lesen\, im Pfarrzentrum
DESCRIPTION:https://gottesdienstsuche.com/das-sonntagsevangelium-gemeinsam-
 lesen-im-pfarrzentrum_id31989
DTSTART:20250822T193000
LOCATION:Pfarramt Scheyern-Hl. Kreuz u. Mariä Himmelfahrt\, Schyrenplatz 1
  Klosterverwaltung\, 85298 Scheyern
END:VEVENT
END:VCALENDAR
