BEGIN:VCALENDAR
VERSION:2.0
PRODID:-//Sabre//Sabre VObject 4.5.6//EN
CALSCALE:GREGORIAN
BEGIN:VEVENT
UID:sabre-vobject-50b50460-643b-4e33-b50a-058be3fbbe72
DTSTAMP:20260423T231352Z
SUMMARY:Messe
DESCRIPTION:https://gottesdienstsuche.com/messe_id31987
DTSTART:20250822T070000
LOCATION:Pfarrkirche Scheyern-Heilig Kreuz (Klosterkirche)\, Schyrenplatz \
 , 85298 Scheyern
END:VEVENT
END:VCALENDAR
