BEGIN:VCALENDAR
VERSION:2.0
PRODID:-//Sabre//Sabre VObject 4.5.6//EN
CALSCALE:GREGORIAN
BEGIN:VEVENT
UID:sabre-vobject-785fab90-6681-4a53-90e4-f5d2a15f60d0
DTSTAMP:20260424T054441Z
SUMMARY:Messe
DESCRIPTION:https://gottesdienstsuche.com/messe_id31984
DTSTART:20250821T070000
LOCATION:Pfarrkirche Scheyern-Heilig Kreuz (Klosterkirche)\, Schyrenplatz \
 , 85298 Scheyern
END:VEVENT
END:VCALENDAR
