BEGIN:VCALENDAR
VERSION:2.0
PRODID:-//Sabre//Sabre VObject 4.5.6//EN
CALSCALE:GREGORIAN
BEGIN:VEVENT
UID:sabre-vobject-bcd16db3-1911-451b-922d-6311d7654969
DTSTAMP:20260424T072614Z
SUMMARY:Vesper
DESCRIPTION:https://gottesdienstsuche.com/vesper_id31983
DTSTART:20250820T180000
LOCATION:Kapitelkirche Scheyern-St. Johannes Nepomuk\, Schyrenplatz\, 85298
  Scheyern
END:VEVENT
END:VCALENDAR
