BEGIN:VCALENDAR
VERSION:2.0
PRODID:-//Sabre//Sabre VObject 4.5.6//EN
CALSCALE:GREGORIAN
BEGIN:VEVENT
UID:sabre-vobject-8d9fd9fd-7284-4582-bec3-ddb1c1f6124f
DTSTAMP:20260424T132038Z
SUMMARY:Abendgottesdienst
DESCRIPTION:https://gottesdienstsuche.com/abendgottesdienst_id31979
DTSTART:20250817T190000
LOCATION:Pfarrkirche Scheyern-Heilig Kreuz (Klosterkirche)\, Schyrenplatz \
 , 85298 Scheyern
END:VEVENT
END:VCALENDAR
