BEGIN:VCALENDAR
VERSION:2.0
PRODID:-//Sabre//Sabre VObject 4.5.6//EN
CALSCALE:GREGORIAN
BEGIN:VEVENT
UID:sabre-vobject-d9ef9fc3-749d-4286-a146-a88019914868
DTSTAMP:20260424T224649Z
SUMMARY:Pfarrgottesdienst
DESCRIPTION:https://gottesdienstsuche.com/pfarrgottesdienst_id31975
DTSTART:20250817T083000
LOCATION:Pfarrkirche Scheyern-Heilig Kreuz (Klosterkirche)\, Schyrenplatz \
 , 85298 Scheyern
END:VEVENT
END:VCALENDAR
