BEGIN:VCALENDAR
VERSION:2.0
PRODID:-//Sabre//Sabre VObject 4.5.6//EN
CALSCALE:GREGORIAN
BEGIN:VEVENT
UID:sabre-vobject-b4b8827c-4cf4-42bf-86ab-5a81a6cfc52b
DTSTAMP:20260425T154654Z
SUMMARY:Abendgottesdienst mit anschl. Lichterprozession durch den Klosterpa
 rk und den Klosterhof.
DESCRIPTION:https://gottesdienstsuche.com/abendgottesdienst-mit-anschl-lich
 terprozession-durch-den-klosterpark-und-den-klosterhof_id31968
DTSTART:20250815T190000
LOCATION:Pfarrkirche Scheyern-Heilig Kreuz (Klosterkirche)\, Schyrenplatz \
 , 85298 Scheyern
END:VEVENT
END:VCALENDAR
