BEGIN:VCALENDAR
VERSION:2.0
PRODID:-//Sabre//Sabre VObject 4.5.6//EN
CALSCALE:GREGORIAN
BEGIN:VEVENT
UID:sabre-vobject-3a6ae7a7-9ef4-407c-a596-f46ec3049bbd
DTSTAMP:20260419T143221Z
SUMMARY:Pfarrgottesdienst
DESCRIPTION:https://gottesdienstsuche.com/pfarrgottesdienst_id23199
DTSTART:20241006T090000
LOCATION:Pfarrkirche Sünzhausen St. Koloman\, Pfarrweg 1\, 85301 Sünzhaus
 en
END:VEVENT
END:VCALENDAR
