BEGIN:VCALENDAR
VERSION:2.0
PRODID:-//Sabre//Sabre VObject 4.5.6//EN
CALSCALE:GREGORIAN
BEGIN:VEVENT
UID:sabre-vobject-e20ee4a8-d85d-402e-aacd-a4e97320ed17
DTSTAMP:20260419T213057Z
SUMMARY:Vorabendgottesdienst zum Erntedankfest mit Danke-Broten
DESCRIPTION:https://gottesdienstsuche.com/vorabendgottesdienst-zum-erntedan
 kfest-mit-danke-broten_id23198
DTSTART:20241005T190000
LOCATION:Pfarrkirche Niederthann-St. Dionysius\, HsNr. 15\, 85301 Niedertha
 nn
END:VEVENT
END:VCALENDAR
