BEGIN:VCALENDAR
VERSION:2.0
PRODID:-//Sabre//Sabre VObject 4.5.6//EN
CALSCALE:GREGORIAN
BEGIN:VEVENT
UID:sabre-vobject-54a51efc-1cc1-46bc-aeae-797e7e4909e7
DTSTAMP:20260420T010223Z
SUMMARY:Gottesdienst an der Fahn-Kapelle mit Taufe Anika Weingartner
DESCRIPTION:https://gottesdienstsuche.com/gottesdienst-an-der-fahn-kapelle-
 mit-taufe-anika-weingartner_id23197
DTSTART:20241005T180000
LOCATION:Pfarrkirche Schweitenkirchen-St. Johann Baptist\, Kirchenweg\, 853
 01 Schweitenkirchen
END:VEVENT
END:VCALENDAR
