BEGIN:VCALENDAR
VERSION:2.0
PRODID:-//Sabre//Sabre VObject 4.5.6//EN
CALSCALE:GREGORIAN
BEGIN:VEVENT
UID:sabre-vobject-0dcb402a-5247-4461-bad3-1471886254ea
DTSTAMP:20260420T025825Z
SUMMARY:Oktober-Rosenkranz
DESCRIPTION:https://gottesdienstsuche.com/oktober-rosenkranz_id23196
DTSTART:20241005T163000
LOCATION:Pfarrkirche Paunzhausen-St. Stephanus\, Am Kirchberg 5\, 85307 Pau
 nzhausen
END:VEVENT
END:VCALENDAR
