BEGIN:VCALENDAR
VERSION:2.0
PRODID:-//Sabre//Sabre VObject 4.5.6//EN
CALSCALE:GREGORIAN
BEGIN:VEVENT
UID:sabre-vobject-1fee40bf-3989-4813-9e9b-e1e80c4c50a9
DTSTAMP:20260421T094921Z
SUMMARY:Erntedankgottesdienst
DESCRIPTION:https://gottesdienstsuche.com/erntedankgottesdienst_id23085
DTSTART:20241006T100000
LOCATION:Pfarrkirche Niederscheyern-Maria Verkündigung\, Scheyererweg 3\, 
 85276 Niederscheyern
END:VEVENT
END:VCALENDAR
