BEGIN:VCALENDAR
VERSION:2.0
PRODID:-//Sabre//Sabre VObject 4.5.6//EN
CALSCALE:GREGORIAN
BEGIN:VEVENT
UID:sabre-vobject-60816ffc-f56b-4839-a705-c78019b79e30
DTSTAMP:20260419T174757Z
SUMMARY:Frühgottesdienst
DESCRIPTION:https://gottesdienstsuche.com/fruehgottesdienst_id23082
DTSTART:20241006T073000
LOCATION:Pfarrkirche Scheyern-Heilig Kreuz (Klosterkirche)\, Schyrenplatz \
 , 85298 Scheyern
END:VEVENT
END:VCALENDAR
