BEGIN:VCALENDAR
VERSION:2.0
PRODID:-//Sabre//Sabre VObject 4.5.6//EN
CALSCALE:GREGORIAN
BEGIN:VEVENT
UID:sabre-vobject-207f4517-2897-4338-a774-fb04aa19e44e
DTSTAMP:20260419T230708Z
SUMMARY:Vesper
DESCRIPTION:https://gottesdienstsuche.com/vesper_id23080
DTSTART:20241005T180000
LOCATION:Kapitelkirche Scheyern-St. Johannes Nepomuk\, Schyrenplatz\, 85298
  Scheyern
END:VEVENT
END:VCALENDAR
