BEGIN:VCALENDAR
VERSION:2.0
PRODID:-//Sabre//Sabre VObject 4.5.6//EN
CALSCALE:GREGORIAN
BEGIN:VEVENT
UID:sabre-vobject-0d8fb4a4-cddf-458c-a92b-767a2ddd76ed
DTSTAMP:20260420T044301Z
SUMMARY:Beichtgelegenheit\, im Beichtstuhl
DESCRIPTION:https://gottesdienstsuche.com/beichtgelegenheit-im-beichtstuhl_
 id23079
DTSTART:20241005T163000
LOCATION:Pfarrkirche Scheyern-Heilig Kreuz (Klosterkirche)\, Schyrenplatz \
 , 85298 Scheyern
END:VEVENT
END:VCALENDAR
