BEGIN:VCALENDAR
VERSION:2.0
PRODID:-//Sabre//Sabre VObject 4.5.6//EN
CALSCALE:GREGORIAN
BEGIN:VEVENT
UID:sabre-vobject-7e38925f-e10b-483f-87de-16509c32b19e
DTSTAMP:20260420T062305Z
SUMMARY:Kinderkirche Erntedank - Jedes Kind darf ein Obst oder Gemüse mitb
 ringen
DESCRIPTION:https://gottesdienstsuche.com/kinderkirche-erntedank-jedes-kind
 -darf-ein-obst-oder-gemuese-mitbringen_id23078
DTSTART:20241005T153000
LOCATION:Pfarrkirche Gerolsbach-St. Andreas\, St.-Andreas-Str. 7\, 85302 Ge
 rolsbach
END:VEVENT
END:VCALENDAR
