BEGIN:VCALENDAR
VERSION:2.0
PRODID:-//Sabre//Sabre VObject 4.5.6//EN
CALSCALE:GREGORIAN
BEGIN:VEVENT
UID:sabre-vobject-dc54483d-02d2-4572-891e-c1b82eb2ef47
DTSTAMP:20260420T075832Z
SUMMARY:Trauung
DESCRIPTION:https://gottesdienstsuche.com/trauung_id23077
DTSTART:20241005T120000
LOCATION:Pfarrkirche Scheyern-Heilig Kreuz (Klosterkirche)\, Schyrenplatz \
 , 85298 Scheyern
END:VEVENT
END:VCALENDAR
