BEGIN:VCALENDAR
VERSION:2.0
PRODID:-//Sabre//Sabre VObject 4.5.6//EN
CALSCALE:GREGORIAN
BEGIN:VEVENT
UID:sabre-vobject-77d15983-f255-4cfc-9879-3802f8556bde
DTSTAMP:20260420T093534Z
SUMMARY:Mette und Messe
DESCRIPTION:https://gottesdienstsuche.com/mette-und-messe_id23076
DTSTART:20241005T064500
LOCATION:Kapitelkirche Scheyern-St. Johannes Nepomuk\, Schyrenplatz\, 85298
  Scheyern
END:VEVENT
END:VCALENDAR
