BEGIN:VCALENDAR
VERSION:2.0
PRODID:-//Sabre//Sabre VObject 4.5.6//EN
CALSCALE:GREGORIAN
BEGIN:VEVENT
UID:sabre-vobject-3c37277f-4ed7-4f12-9ae9-64068b77271e
DTSTAMP:20260420T111512Z
SUMMARY:Oktoberrosenkranz in Kleingurnöbach
DESCRIPTION:https://gottesdienstsuche.com/oktoberrosenkranz-in-kleingurnoeb
 ach_id23075
DTSTART:20241004T190000
LOCATION:Pfarrkirche Scheyern-Heilig Kreuz (Klosterkirche)\, Schyrenplatz \
 , 85298 Scheyern
END:VEVENT
END:VCALENDAR
