BEGIN:VCALENDAR
VERSION:2.0
PRODID:-//Sabre//Sabre VObject 4.5.6//EN
CALSCALE:GREGORIAN
BEGIN:VEVENT
UID:sabre-vobject-6ad12b6c-53d1-412d-aea2-97c46572499a
DTSTAMP:20260420T124817Z
SUMMARY:Vesper und Messe
DESCRIPTION:https://gottesdienstsuche.com/vesper-und-messe_id23074
DTSTART:20241004T174500
LOCATION:Kapitelkirche Scheyern-St. Johannes Nepomuk\, Schyrenplatz\, 85298
  Scheyern
END:VEVENT
END:VCALENDAR
