BEGIN:VCALENDAR
VERSION:2.0
PRODID:-//Sabre//Sabre VObject 4.5.6//EN
CALSCALE:GREGORIAN
BEGIN:VEVENT
UID:sabre-vobject-e5c1a74d-6f4e-442a-9dd7-ab2db9443d89
DTSTAMP:20260425T012748Z
SUMMARY:Vorabendgottesdienst
DESCRIPTION:https://gottesdienstsuche.com/vorabendgottesdienst_id21910
DTSTART:20240907T190000
LOCATION:Pfarrkirche Niederthann-St. Dionysius\, HsNr. 15\, 85301 Niedertha
 nn
END:VEVENT
END:VCALENDAR
