BEGIN:VCALENDAR
VERSION:2.0
PRODID:-//Sabre//Sabre VObject 4.5.6//EN
CALSCALE:GREGORIAN
BEGIN:VEVENT
UID:sabre-vobject-c6351293-440f-4ca4-b8de-d69dd8c41930
DTSTAMP:20260424T202914Z
SUMMARY:Rosenkranz
DESCRIPTION:https://gottesdienstsuche.com/rosenkranz_id21909
DTSTART:20240907T163000
LOCATION:Pfarrkirche Paunzhausen-St. Stephanus\, Am Kirchberg 5\, 85307 Pau
 nzhausen
END:VEVENT
END:VCALENDAR
