BEGIN:VCALENDAR
VERSION:2.0
PRODID:-//Sabre//Sabre VObject 4.5.6//EN
CALSCALE:GREGORIAN
BEGIN:VEVENT
UID:sabre-vobject-b06aab4c-b329-4c1b-a6ed-03db53cfbb14
DTSTAMP:20260425T004446Z
SUMMARY:Gottesdienst
DESCRIPTION:https://gottesdienstsuche.com/gottesdienst_id21908
DTSTART:20240903T190000
LOCATION:Filialkirche Holzhausen-St. Ulrich\, \, 85301 Holzhausen
END:VEVENT
END:VCALENDAR
