BEGIN:VCALENDAR
VERSION:2.0
PRODID:-//Sabre//Sabre VObject 4.5.6//EN
CALSCALE:GREGORIAN
BEGIN:VEVENT
UID:sabre-vobject-1069eaeb-a50f-4c7b-9ff3-5c964c5cf1a3
DTSTAMP:20260425T030546Z
SUMMARY:Beichtgelegenheit\, im Beichtstuhl
DESCRIPTION:https://gottesdienstsuche.com/beichtgelegenheit-im-beichtstuhl_
 id21808
DTSTART:20240908T071500
LOCATION:Pfarrkirche Scheyern-Heilig Kreuz (Klosterkirche)\, Schyrenplatz \
 , 85298 Scheyern
END:VEVENT
END:VCALENDAR
