BEGIN:VCALENDAR
VERSION:2.0
PRODID:-//Sabre//Sabre VObject 4.5.6//EN
CALSCALE:GREGORIAN
BEGIN:VEVENT
UID:sabre-vobject-3221f783-0e72-48f0-b6e4-bb22285f9ff4
DTSTAMP:20260424T233748Z
SUMMARY:Vesper
DESCRIPTION:https://gottesdienstsuche.com/vesper_id21807
DTSTART:20240907T180000
LOCATION:Kapitelkirche Scheyern-St. Johannes Nepomuk\, Schyrenplatz\, 85298
  Scheyern
END:VEVENT
END:VCALENDAR
