BEGIN:VCALENDAR
VERSION:2.0
PRODID:-//Sabre//Sabre VObject 4.5.6//EN
CALSCALE:GREGORIAN
BEGIN:VEVENT
UID:sabre-vobject-b9a16f29-f4d9-4d77-9b9b-2faf182b973a
DTSTAMP:20260424T171308Z
SUMMARY:Mette und Messe
DESCRIPTION:https://gottesdienstsuche.com/mette-und-messe_id21804
DTSTART:20240907T064500
LOCATION:Kapitelkirche Scheyern-St. Johannes Nepomuk\, Schyrenplatz\, 85298
  Scheyern
END:VEVENT
END:VCALENDAR
