BEGIN:VCALENDAR
VERSION:2.0
PRODID:-//Sabre//Sabre VObject 4.5.6//EN
CALSCALE:GREGORIAN
BEGIN:VEVENT
UID:sabre-vobject-29895f59-4ad7-4fcb-b8a7-a57d4084753b
DTSTAMP:20260424T165702Z
SUMMARY:Messe
DESCRIPTION:https://gottesdienstsuche.com/messe_id21802
DTSTART:20240906T070000
LOCATION:Pfarrkirche Scheyern-Heilig Kreuz (Klosterkirche)\, Schyrenplatz \
 , 85298 Scheyern
END:VEVENT
END:VCALENDAR
