BEGIN:VCALENDAR
VERSION:2.0
PRODID:-//Sabre//Sabre VObject 4.5.6//EN
CALSCALE:GREGORIAN
BEGIN:VEVENT
UID:sabre-vobject-e119c648-783d-4425-8ed2-db2c1463400b
DTSTAMP:20260424T182301Z
SUMMARY:Vesper und Messe
DESCRIPTION:https://gottesdienstsuche.com/vesper-und-messe_id21801
DTSTART:20240905T174500
LOCATION:Kapitelkirche Scheyern-St. Johannes Nepomuk\, Schyrenplatz\, 85298
  Scheyern
END:VEVENT
END:VCALENDAR
