BEGIN:VCALENDAR
VERSION:2.0
PRODID:-//Sabre//Sabre VObject 4.5.6//EN
CALSCALE:GREGORIAN
BEGIN:VEVENT
UID:sabre-vobject-000e4233-90ca-476e-9d5d-1c6df1867f94
DTSTAMP:20260424T195214Z
SUMMARY:Messe
DESCRIPTION:https://gottesdienstsuche.com/messe_id21800
DTSTART:20240905T070000
LOCATION:Pfarrkirche Scheyern-Heilig Kreuz (Klosterkirche)\, Schyrenplatz \
 , 85298 Scheyern
END:VEVENT
END:VCALENDAR
