BEGIN:VCALENDAR
VERSION:2.0
PRODID:-//Sabre//Sabre VObject 4.5.6//EN
CALSCALE:GREGORIAN
BEGIN:VEVENT
UID:sabre-vobject-d55d2cbf-5711-4e3e-b8cb-763b66bd324c
DTSTAMP:20260424T212017Z
SUMMARY:Vesper
DESCRIPTION:https://gottesdienstsuche.com/vesper_id21799
DTSTART:20240904T180000
LOCATION:Kapitelkirche Scheyern-St. Johannes Nepomuk\, Schyrenplatz\, 85298
  Scheyern
END:VEVENT
END:VCALENDAR
