BEGIN:VCALENDAR
VERSION:2.0
PRODID:-//Sabre//Sabre VObject 4.5.6//EN
CALSCALE:GREGORIAN
BEGIN:VEVENT
UID:sabre-vobject-2b4030ff-fcaa-413f-b34b-a59026ddba20
DTSTAMP:20260425T023141Z
SUMMARY:Messe
DESCRIPTION:https://gottesdienstsuche.com/messe_id21797
DTSTART:20240903T180000
LOCATION:Pfarrkirche Scheyern-Heilig Kreuz (Klosterkirche)\, Schyrenplatz \
 , 85298 Scheyern
END:VEVENT
END:VCALENDAR
